BEGIN:VCALENDAR
VERSION:2.0
PRODID:-//IAB Chile - ECPv6.15.20//NONSGML v1.0//EN
CALSCALE:GREGORIAN
METHOD:PUBLISH
X-ORIGINAL-URL:https://new.iab.cl
X-WR-CALDESC:Eventos para IAB Chile
REFRESH-INTERVAL;VALUE=DURATION:PT1H
X-Robots-Tag:noindex
X-PUBLISHED-TTL:PT1H
BEGIN:VTIMEZONE
TZID:America/Santiago
BEGIN:STANDARD
TZOFFSETFROM:-0300
TZOFFSETTO:-0400
TZNAME:-04
DTSTART:20250406T030000
END:STANDARD
BEGIN:DAYLIGHT
TZOFFSETFROM:-0400
TZOFFSETTO:-0300
TZNAME:-03
DTSTART:20250907T040000
END:DAYLIGHT
BEGIN:STANDARD
TZOFFSETFROM:-0300
TZOFFSETTO:-0400
TZNAME:-04
DTSTART:20260405T030000
END:STANDARD
BEGIN:DAYLIGHT
TZOFFSETFROM:-0400
TZOFFSETTO:-0300
TZNAME:-03
DTSTART:20260906T040000
END:DAYLIGHT
BEGIN:STANDARD
TZOFFSETFROM:-0300
TZOFFSETTO:-0400
TZNAME:-04
DTSTART:20270404T030000
END:STANDARD
BEGIN:DAYLIGHT
TZOFFSETFROM:-0400
TZOFFSETTO:-0300
TZNAME:-03
DTSTART:20270905T040000
END:DAYLIGHT
END:VTIMEZONE
BEGIN:VTIMEZONE
TZID:UTC
BEGIN:STANDARD
TZOFFSETFROM:+0000
TZOFFSETTO:+0000
TZNAME:UTC
DTSTART:20250101T000000
END:STANDARD
END:VTIMEZONE
BEGIN:VEVENT
DTSTART;TZID=America/Santiago:20260323T080000
DTEND;TZID=America/Santiago:20260331T170000
DTSTAMP:20260420T080734
CREATED:20260224T180120Z
LAST-MODIFIED:20260331T170006Z
UID:10000003-1774252800-1774976400@new.iab.cl
SUMMARY:Tendencias IAB Chile
DESCRIPTION:Conoce el informe de tendencias para el Marketing Digital preparado por IAB Chile
URL:https://new.iab.cl/actividad-iab/tendencias-iab-chile/
LOCATION:Hotel W Santiago\, Isidora Goyenechea 3000\, Santiago\, Las Condes\, 7550653\, Chile
ATTACH;FMTTYPE=image/jpeg:https://new.iab.cl/wp-content/uploads/2026/02/privacidad-datos.jpg
ORGANIZER;CN="IAB Chile":MAILTO:contacto@iab.cl
END:VEVENT
BEGIN:VEVENT
DTSTART;TZID=UTC:20260408T080000
DTEND;TZID=UTC:20260408T170000
DTSTAMP:20260420T080734
CREATED:20260224T182451Z
LAST-MODIFIED:20260409T175208Z
UID:10000004-1775635200-1775667600@new.iab.cl
SUMMARY:Directorio IAB Chile
DESCRIPTION:
URL:https://new.iab.cl/actividad-iab/directorio-iab-chile-2/
LOCATION:Directorio IAB\, Guardia Vieja 202\, Oficina 403\, Santiago\, Providencia\, Chile
ORGANIZER;CN="IAB Chile":MAILTO:contacto@iab.cl
END:VEVENT
BEGIN:VEVENT
DTSTART;TZID=UTC:20260422T080000
DTEND;TZID=UTC:20260422T120000
DTSTAMP:20260420T080734
CREATED:20260305T031707Z
LAST-MODIFIED:20260420T095604Z
UID:10000006-1776844800-1776859200@new.iab.cl
SUMMARY:Asamblea General Socios IAB Chile
DESCRIPTION:
URL:https://new.iab.cl/actividad-iab/asamblea-general-socios-iab-chile/
ATTACH;FMTTYPE=image/jpeg:https://new.iab.cl/wp-content/uploads/2026/03/ConoceATusCandidatos_2026-3-CTC26-mailing.jpeg
ORGANIZER;CN="IAB Chile":MAILTO:contacto@iab.cl
END:VEVENT
BEGIN:VEVENT
DTSTART;VALUE=DATE:20260622
DTEND;VALUE=DATE:20260627
DTSTAMP:20260420T080734
CREATED:20260420T100434Z
LAST-MODIFIED:20260420T100434Z
UID:10000007-1782086400-1782518399@new.iab.cl
SUMMARY:73º Festival Internacional de Creatividad Cannes Lions 2026
DESCRIPTION:El 73.º Festival Internacional de Creatividad Cannes Lions 2026 se celebrará del 22 al 26 de junio de 2026 en el Palais des Festivals et des Congrès en Cannes\, Francia. Este evento principal de la industria publicitaria y creativa mundial reunirá a líderes creativos\, marcas y agencias para premiar la excelencia\, establecer redes y explorar tendencias\, incluyendo programas como LIONS Sport y foros de aprendizaje.\n\n\n\n\n\nFecha y Lugar: Del 22 al 26 de junio de 2026 en Cannes\, Francia.\nEnfoque: Reconocimiento de la creatividad\, networking global y aprendizaje en marketing\, publicidad y comunicación.\nParticipación: Se espera la asistencia de más de 350 marcas\, 550 agencias y 13\,000 visitantes profesionales.\n\n\n\n\n\n\n\nPara obtener información detallada sobre el programa\, compra de entradas y las últimas noticias\, se recomienda visitar el sitio web oficial de Cannes Lions. 
URL:https://new.iab.cl/actividad-iab/73o-festival-internacional-de-creatividad-cannes-lions-2026/
ATTACH;FMTTYPE=image/png:https://new.iab.cl/wp-content/uploads/2026/04/Captura-de-pantalla-2026-04-20-060345.png
END:VEVENT
END:VCALENDAR